BEGIN:VCALENDAR
PRODID:-//eluceo/ical//2.0/EN
VERSION:2.0
CALSCALE:GREGORIAN
BEGIN:VEVENT
UID:52d755148588b1b1235f4f2295f69e22
DTSTAMP:20260422T042916Z
SUMMARY:2018 Passover Morning of Learning
DESCRIPTION:Jewish Federation & Foundation of Rockland County\nCommunity Ca
 lendar\nhttps://jewishrockland.org/calendar/passover-morning-of-learning-2
 018-262192\n\nEnrich your mind and prepare for the Festival of Freedom at 
 Federation's Annual Passover Morning of Learning.\n\nAdvance registration 
 is required and space is limited. Sign up by contacting Roberta at the pho
 ne/email address above.\n\n9:30 AM: Coffee/Check-in\n\n9.45-10.45 AM: Sess
 ion One (choose one):\n\n1a) The Passover Story and its implications are a
 n essential part of the Jewish narrative. Looking at the Exodus from a his
 torical basis\, we ask the following questions. What are the argumen...
DTSTART;TZID=America/New_York:20180312T093000
DTEND;TZID=America/New_York:20180312T123000
END:VEVENT
END:VCALENDAR
