BEGIN:VCALENDAR
PRODID:-//eluceo/ical//2.0/EN
VERSION:2.0
CALSCALE:GREGORIAN
BEGIN:VEVENT
UID:a5151d3d312f7bdd8d195410bc8b663c
DTSTAMP:20260420T011911Z
SUMMARY:Peace Ensemble - A Faith Initiative
DESCRIPTION:Jewish Federation & Foundation of Rockland County\nCommunity Ca
 lendar\nhttps://jewishrockland.org/calendar/peace-ensemble---a-faith-initi
 ative-1444236931\n\nPeace Ensemble - A Faith Initiative\nSaturday October 
 24th @ 7PM\nCongregation Sons of Israel\, Nyack\, NY\n\nAn ensemble of Chr
 istian and Jewish clergy whose aim is to bridge the religious divide throu
 gh music: traditional and original. Among the many things in common: Faith
  in the Creator\, in each other\, and faith that peace is the answer.\nThe
  Peace Ensemble:\n* Pastor Everett Newton\, First Immanuel Missionary Bapt
 ist Church\, Central Nyack\, NY\n* Hazzan Michael Kasper\, Congregation So
 ns of I...
DTSTART;TZID=America/New_York:20151024T190000
DTEND;TZID=America/New_York:20151024T210000
END:VEVENT
END:VCALENDAR
