BEGIN:VCALENDAR
PRODID:-//eluceo/ical//2.0/EN
VERSION:2.0
CALSCALE:GREGORIAN
BEGIN:VEVENT
UID:77a87ab43b84add70795157a83a2f519
DTSTAMP:20260424T105036Z
SUMMARY:Personal Aliyah Planning Meetings
DESCRIPTION:Jewish Federation & Foundation of Rockland County\nCommunity Ca
 lendar\nhttps://jewishrockland.org/calendar/personal-aliyah-planning-meeti
 ngs\n\nPersonal Aliyah Planning Meetings
DTSTART;TZID=America/New_York:20131216T140000
DTEND;TZID=America/New_York:20131216T203000
END:VEVENT
END:VCALENDAR
