BEGIN:VCALENDAR
PRODID:-//eluceo/ical//2.0/EN
VERSION:2.0
CALSCALE:GREGORIAN
BEGIN:VEVENT
UID:bb476a5edd9de5ca5dc03da628e24a41
DTSTAMP:20260420T132451Z
SUMMARY:Pickling with June at CSI
DESCRIPTION:Jewish Federation & Foundation of Rockland County\nCommunity Ca
 lendar\nhttps://jewishrockland.org/calendar/pickling-with-june-at-csi\n\nP
 ickling with June – Wednesday\, September 7th\n11AM – 12:30 PM\nCongre
 gation Sons of Israel\n300 North Broadway\, Upper Nyack\, NY 10960\nJoin C
 SI as we learn the learn to make Sweet Bread & Butter Pickles\nFor more in
 formation contact us at 845-358-3767 or csioffice@optonline.net\nFor High 
 Holiday Tickets\, call the CSI office at 845-358-3767 or csioffice@optonli
 ne.net\n\n 
DTSTART;TZID=America/New_York:20160907T110000
DTEND;TZID=America/New_York:20160907T123000
END:VEVENT
END:VCALENDAR
