BEGIN:VCALENDAR
PRODID:-//eluceo/ical//2.0/EN
VERSION:2.0
CALSCALE:GREGORIAN
BEGIN:VEVENT
UID:be0e8f7ea9af2a65a9ed44162aae23b6
DTSTAMP:20260422T083601Z
SUMMARY:PJ Does Rosh Hashanah (with apples & honey\, crafts & books!)
DESCRIPTION:Jewish Federation & Foundation of Rockland County\nCommunity Ca
 lendar\nhttps://jewishrockland.org/calendar/pj-does-rosh-hashanah-with-app
 les--honey-crafts--books-1628869407\n\nJoin us anytime between 1-3 for app
 les & honey\, Rosh Hashanah crafts and PJ Library books!
DTSTART;TZID=America/New_York:20210825T130000
DTEND;TZID=America/New_York:20210825T150000
END:VEVENT
END:VCALENDAR
