BEGIN:VCALENDAR
PRODID:-//eluceo/ical//2.0/EN
VERSION:2.0
CALSCALE:GREGORIAN
BEGIN:VEVENT
UID:5335f62df8639d3d574cde39343cab4e
DTSTAMP:20260424T002010Z
SUMMARY:PJ Havdalah Dinner Party at JCC Rockland
DESCRIPTION:Jewish Federation & Foundation of Rockland County\nCommunity Ca
 lendar\nhttps://jewishrockland.org/calendar/pj-havdalah-dinner-party-at-jc
 c-rockland-1767383729\n\nPJ Havdalah Party\nJanuary 10 @ 6:00 pm - 7:30 pm
 \nJoin us for this fun and cozy evening! Grab your favorite pajamas as we 
 welcome the new week together with dinner\, music\, games\, crafts and mor
 e! Ideal for ages 2-7.\n\n$36 members | $45 public\n*up to four people- $1
 0 each additional child\n\nhttps://jccrockland.org/event/pj-havdalah-party
 /
DTSTART;TZID=America/New_York:20260110T180000
DTEND;TZID=America/New_York:20260110T193000
END:VEVENT
END:VCALENDAR
