BEGIN:VCALENDAR
PRODID:-//eluceo/ical//2.0/EN
VERSION:2.0
CALSCALE:GREGORIAN
BEGIN:VEVENT
UID:7524a90dd1af81d5e65fc4cdef30f79c
DTSTAMP:20260420T043900Z
SUMMARY:PJ Library- Ices & Books  with Morah Gerri &  Friends
DESCRIPTION:Jewish Federation & Foundation of Rockland County\nCommunity Ca
 lendar\nhttps://jewishrockland.org/calendar/pj-library--ices--books--with-
 morah-gerri---friends-1626714931\n\nJoin us for ices and your favorite PJ 
 Library books\, with special guest Morah Gerri & Friends\, featuring puppe
 ts by Rabbi Paul Kurland.
DTSTART;TZID=America/New_York:20210727T133000
DTEND;TZID=America/New_York:20210727T143000
END:VEVENT
END:VCALENDAR
