BEGIN:VCALENDAR
PRODID:-//eluceo/ical//2.0/EN
VERSION:2.0
CALSCALE:GREGORIAN
BEGIN:VEVENT
UID:3244482e9271fddc05d76f4689d11e6c
DTSTAMP:20260424T171818Z
SUMMARY:PJ Library and Camp Ramah Pool Party and BBQ
DESCRIPTION:Jewish Federation & Foundation of Rockland County\nCommunity Ca
 lendar\nhttps://jewishrockland.org/calendar/pj-library-and-camp-ramah-pool
 -party-and-bbq-2017-236004\n\nSplish\, splash - it's a pool party and BBQ 
 bash!\n\nEnjoy a free BBQ dinner\, singing\, stories\, swimming and more. 
 Featuring Ramah's stellar staff! All young families are welcome. Please no
 te that\, while there will be lifeguards on duty\, parents are required to
  be in the water with their children at all times.\n\nRSVP by emailing Bim
 Bam@ramahnyack.org
DTSTART;TZID=America/New_York:20170808T163000
DTEND;TZID=America/New_York:20170808T180000
END:VEVENT
END:VCALENDAR
