BEGIN:VCALENDAR
PRODID:-//eluceo/ical//2.0/EN
VERSION:2.0
CALSCALE:GREGORIAN
BEGIN:VEVENT
UID:4aa9db3b80fe98bc2a4f7826c5882196
DTSTAMP:20260419T173702Z
SUMMARY:PJ Library Chanukah Book Fair
DESCRIPTION:Jewish Federation & Foundation of Rockland County\nCommunity Ca
 lendar\nhttps://jewishrockland.org/calendar/pj-library-chanukah-book-fair-
 1415301949-124754\n\nFREE event!
DTSTART;TZID=America/New_York:20141214T123000
DTEND;TZID=America/New_York:20141214T153000
END:VEVENT
END:VCALENDAR
