BEGIN:VCALENDAR
PRODID:-//eluceo/ical//2.0/EN
VERSION:2.0
CALSCALE:GREGORIAN
BEGIN:VEVENT
UID:950d424d3574a231b58c264e04dfa33c
DTSTAMP:20260421T020326Z
SUMMARY:PJ Library Hanukkah Story Time and Crafts
DESCRIPTION:Jewish Federation & Foundation of Rockland County\nCommunity Ca
 lendar\nhttps://jewishrockland.org/calendar/pj-library-hanukkah-story-time
 -and-crafts-255130\n\nJoin PJ Library of Rockland County at JCC Rockland's
  Hanukkah Hoopla. Children and caregivers of all ages can hang out in our 
 comfy book nook and read on their own\, listen to story time\, and make a 
 menorah out of pasta!
DTSTART;TZID=America/New_York:20171210T100000
DTEND;TZID=America/New_York:20171210T120000
END:VEVENT
END:VCALENDAR
