BEGIN:VCALENDAR
PRODID:-//eluceo/ical//2.0/EN
VERSION:2.0
CALSCALE:GREGORIAN
BEGIN:VEVENT
UID:90914fe344c7976eb03306773fbac658
DTSTAMP:20260423T234914Z
SUMMARY:PJ Library & JCC Rockland Passover Puppet Show
DESCRIPTION:Jewish Federation & Foundation of Rockland County\nCommunity Ca
 lendar\nhttps://jewishrockland.org/calendar/pj-library-jcc-rockland-passov
 er-puppet-show-2016-184093\n\nPlease join us for a PJ Library/JCC Rockland
  Passover Puppet Show with the Yellow Sneaker Puppets! This adorable show 
 entitled "The Matzah Time Crunch" is all about getting ready for Passover.
  Following the show\, children and caregivers will create their own Passov
 er works of art.\n\nPlease contact Lara Epstein for more information lepst
 ein@jewishrockland.org or 845-362-4200 x180
DTSTART;TZID=America/New_York:20160420T100000
DTEND;TZID=America/New_York:20160420T110000
END:VEVENT
END:VCALENDAR
