BEGIN:VCALENDAR
PRODID:-//eluceo/ical//2.0/EN
VERSION:2.0
CALSCALE:GREGORIAN
BEGIN:VEVENT
UID:1c97063c59a68eeb7b16d6aa6b78840a
DTSTAMP:20260423T171936Z
SUMMARY:PJ Library Pool Party & BBQ
DESCRIPTION:Jewish Federation & Foundation of Rockland County\nCommunity Ca
 lendar\nhttps://jewishrockland.org/calendar/pj-library-pool-party-2015-147
 734\n\nSplish Splash! It's a Pool Party & BBQ Bash!\n\nIncludes a FREE BBQ
 \, singing\, stories\, swimming and more! Features Ramah's stellar staff! 
 All young families are welcome.\n\nPLEASE NOTE THAT\, WHILE THERE WILL BE 
 LIFEGUARDS ON DUTY\, PARENTS ARE REQUIRED TO BE IN THE WATER WITH THEIR CH
 ILDREN AT ALL TIMES.\n\nFor more information contact Lara Epstein: lepstei
 n@jewishrockland.org or call (845) 362-4200 x180.
DTSTART;TZID=America/New_York:20150811T161500
DTEND;TZID=America/New_York:20150811T190000
END:VEVENT
END:VCALENDAR
