BEGIN:VCALENDAR
PRODID:-//eluceo/ical//2.0/EN
VERSION:2.0
CALSCALE:GREGORIAN
BEGIN:VEVENT
UID:f9d0829b1c1d690e8a2582312f09a44d
DTSTAMP:20260424T074214Z
SUMMARY:PJ Library Purimpalooza
DESCRIPTION:Jewish Federation & Foundation of Rockland County\nCommunity Ca
 lendar\nhttps://jewishrockland.org/calendar/pj-library-purimpalooza-7330\n
 \nPJ Library Purimpalooza
DTSTART;TZID=America/New_York:20130221T100000
DTEND;TZID=America/New_York:20130221T110000
END:VEVENT
END:VCALENDAR
