BEGIN:VCALENDAR
PRODID:-//eluceo/ical//2.0/EN
VERSION:2.0
CALSCALE:GREGORIAN
BEGIN:VEVENT
UID:d331d3d001dc4efd29399cbc5ce79bcd
DTSTAMP:20260422T122955Z
SUMMARY:PJ Library Superhero Super Sunday
DESCRIPTION:Jewish Federation & Foundation of Rockland County\nCommunity Ca
 lendar\nhttps://jewishrockland.org/calendar/pj-library-superhero-super-sun
 day-1451504776\n\nCalling all superheroes!\n\n\nGive back to our "real" su
 perheroes at this fun program for kids!\n- Come dressed in your favorite c
 ostume\n- Create cards for Kosher Troops\n- Make beautiful Tu B'shevat pro
 jects\n- Get your picture taken with U.S. and Israeli soldiers\n- Pizza an
 d snacks for kids\n\nFree with advance registration ($3/child at the door)
 . Register now!
DTSTART;TZID=America/New_York:20160124T113000
DTEND;TZID=America/New_York:20160124T133000
END:VEVENT
END:VCALENDAR
