BEGIN:VCALENDAR
PRODID:-//eluceo/ical//2.0/EN
VERSION:2.0
CALSCALE:GREGORIAN
BEGIN:VEVENT
UID:17023ab5edabb6960f3061fee1a07408
DTSTAMP:20260423T042815Z
SUMMARY:Poetry Reading by Yehoshua November
DESCRIPTION:Jewish Federation & Foundation of Rockland County\nCommunity Ca
 lendar\nhttps://jewishrockland.org/calendar/poetry-reading-yehoshua-novemb
 er\n\nPoetry Reading\nby Yehoshua November\, award-winning author\, whose 
 latest collection\, Two Worlds Exist\, was a finalist for the 2016 Nationa
 l Jewish Book Award in Poetry. His previous poetry collection\, God’s Op
 timism\, won the MSR Poetry\nAward and was a finalist for the LA Times Boo
 k Prize. He teaches writing at Touro College and Rutgers University.
DTSTART;TZID=America/New_York:20170314T121500
DTEND;TZID=America/New_York:20170314T131500
END:VEVENT
END:VCALENDAR
