BEGIN:VCALENDAR
PRODID:-//eluceo/ical//2.0/EN
VERSION:2.0
CALSCALE:GREGORIAN
BEGIN:VEVENT
UID:cf9b384012e6caa17d5d46d00ced48c9
DTSTAMP:20260421T161143Z
SUMMARY:Pop-Up Shabbat at  Nyack Memorial Park
DESCRIPTION:Jewish Federation & Foundation of Rockland County\nCommunity Ca
 lendar\nhttps://jewishrockland.org/calendar/pop-up-shabbat-at--nyack-memor
 ial-park-1532445430\n\nCalling K-2 Families! Join Brad\, RTR’s Director 
 of Congregational Learning\, at the gazebo with your bathing suit/towel. L
 et’s eat challah\, drink juice\, sing some songs\, then play together at
  the splash pad and playground at Nyack Memorial Park.
DTSTART;TZID=America/New_York:20180804T100000
DTEND;TZID=America/New_York:20180804T110000
END:VEVENT
END:VCALENDAR
