BEGIN:VCALENDAR
PRODID:-//eluceo/ical//2.0/EN
VERSION:2.0
CALSCALE:GREGORIAN
BEGIN:VEVENT
UID:9d60a3b179a8063b7763342ea2ad82d6
DTSTAMP:20260422T103337Z
SUMMARY:Pre- holiday workshop at CSI
DESCRIPTION:Jewish Federation & Foundation of Rockland County\nCommunity Ca
 lendar\nhttps://jewishrockland.org/calendar/pre--holiday-workshop-at-csi-1
 726514219\n\nJoin Sisterhood and new CSI rabbinic intern\, Zachary Bernste
 in for a pre-holiday workshop\, Does G-d PRAY? \n7:00 p.m.\nSeptember 25\n
 RSVP for security purposes to office@csinyack.org\n.
DTSTART;TZID=America/New_York:20240925T190000
DTEND;TZID=America/New_York:20240925T203000
END:VEVENT
END:VCALENDAR
