BEGIN:VCALENDAR
PRODID:-//eluceo/ical//2.0/EN
VERSION:2.0
CALSCALE:GREGORIAN
BEGIN:VEVENT
UID:5f2be8c9fa2d59f1069a69bce16495cf
DTSTAMP:20260426T030145Z
SUMMARY:Pre-Purim Grilled Cheese and Celebration
DESCRIPTION:Jewish Federation & Foundation of Rockland County\nCommunity Ca
 lendar\nhttps://jewishrockland.org/calendar/pre-purim-grilled-cheese-and-c
 elebration\n\nPre-Purim Celebration for Young Families of ALL ages
DTSTART;TZID=America/New_York:20180228T180000
DTEND;TZID=America/New_York:20180228T190000
END:VEVENT
END:VCALENDAR
