BEGIN:VCALENDAR
PRODID:-//eluceo/ical//2.0/EN
VERSION:2.0
CALSCALE:GREGORIAN
BEGIN:VEVENT
UID:ffc1d77c48e224bc24c08a9bd1105a02
DTSTAMP:20260422T101631Z
SUMMARY:Pride Shabbat
DESCRIPTION:Jewish Federation & Foundation of Rockland County\nCommunity Ca
 lendar\nhttps://jewishrockland.org/calendar/pride-shabbat-1741720736\n\nPr
 ide Shabbat - Service with Guest Speaker Brooke Malloy - Founding Executiv
 e Director at the Rockland County Pride Center - RSVP to office@shirshalom
 rockland.org or 845-708-9181- Kiddush Luncheon to follow
DTSTART;TZID=America/New_York:20250405T093000
DTEND;TZID=America/New_York:20250405T133000
END:VEVENT
END:VCALENDAR
