BEGIN:VCALENDAR
PRODID:-//eluceo/ical//2.0/EN
VERSION:2.0
CALSCALE:GREGORIAN
BEGIN:VEVENT
UID:cf799e7a8538e4fdf309ddd518ff3494
DTSTAMP:20260421T014327Z
SUMMARY:PRIDE Shabbat at CSI
DESCRIPTION:Jewish Federation & Foundation of Rockland County\nCommunity Ca
 lendar\nhttps://jewishrockland.org/calendar/pride-shabbat-at-csi-171535050
 1\n\nJoin CSI  for our annual PRIDE weekend 6/14 &amp\; 6/15\nCelebration 
 of LGBTQ+Jews \nFriday service at 8 p.m with speaker and dessert reception
 \nSaturday at 9:30 a.m. with special readings and words from the Torah\, f
 ollowed by a festive rainbow lunch at 11:30 a.m. \nRSVP for either/both ev
 ents to: office@csinyack.org
DTSTART;TZID=America/New_York:20240614T200000
DTEND;TZID=America/New_York:20240615T123000
END:VEVENT
END:VCALENDAR
