BEGIN:VCALENDAR
PRODID:-//eluceo/ical//2.0/EN
VERSION:2.0
CALSCALE:GREGORIAN
BEGIN:VEVENT
UID:43810c2344f216d1fcfe7bfb02585889
DTSTAMP:20260421T233917Z
SUMMARY:Probate of Your Will & Other Proceedings in Surrogates Court
DESCRIPTION:Jewish Federation & Foundation of Rockland County\nCommunity Ca
 lendar\nhttps://jewishrockland.org/calendar/probate-of-your-will--other-pr
 oceedings-in-surrogates-court-86105\n\nSpeaker: Judge Al Weiner\nDo you ne
 ed a will? How is a will executed? What property does not pass under a wil
 l? When does a will become irrevocable? What is probate? What if someone o
 bjects to probate in Surrogates Court. There are so many questions\, rules
 \, and regulations concerning wills. Listen and ask all of your questions 
 - without paying hefty attorney fees! A must for all Boomers!\nFREE: Every
 one Welcome.
DTSTART;TZID=America/New_York:20141007T073000
DTEND;TZID=America/New_York:20141007T090000
END:VEVENT
END:VCALENDAR
