BEGIN:VCALENDAR
PRODID:-//eluceo/ical//2.0/EN
VERSION:2.0
CALSCALE:GREGORIAN
BEGIN:VEVENT
UID:26dc7ab61c75663d5242202d64f623f3
DTSTAMP:20260421T194620Z
SUMMARY:Public Yizkor
DESCRIPTION:Jewish Federation & Foundation of Rockland County\nCommunity Ca
 lendar\nhttps://jewishrockland.org/calendar/public-yizkor-1531759903\n\nPu
 blic Observance - Memorial Service for the community of bereaved
DTSTART;TZID=America/New_York:20180919T143000
DTEND;TZID=America/New_York:20180919T153000
END:VEVENT
END:VCALENDAR
