BEGIN:VCALENDAR
PRODID:-//eluceo/ical//2.0/EN
VERSION:2.0
CALSCALE:GREGORIAN
BEGIN:VEVENT
UID:d530cb811ef2d00d62058774af4420c4
DTSTAMP:20260420T151053Z
SUMMARY:Public Yizkor
DESCRIPTION:Jewish Federation & Foundation of Rockland County\nCommunity Ca
 lendar\nhttps://jewishrockland.org/calendar/public-yizkor-1600719350\n\nPu
 blic Yizkor in Nanuet Hebrew Center parking lot. You may bring your own ch
 air. There will be no chairs set up. If there is inclement weather please 
 call the office Tuesday am 845-708-9181 for a zoom link for Tuesday Septem
 ber 29 @ 7:00 pm.
DTSTART;TZID=America/New_York:20200928T131500
DTEND;TZID=America/New_York:20200928T141500
END:VEVENT
END:VCALENDAR
