BEGIN:VCALENDAR
PRODID:-//eluceo/ical//2.0/EN
VERSION:2.0
CALSCALE:GREGORIAN
BEGIN:VEVENT
UID:03524549dd8fd7233ed83d1cc5758bde
DTSTAMP:20260425T043524Z
SUMMARY:Public Yizkor at Nanuet Hebrew Center
DESCRIPTION:Jewish Federation & Foundation of Rockland County\nCommunity Ca
 lendar\nhttps://jewishrockland.org/calendar/public-yizkor-nanuet-hebrew-ce
 nter-2015\n\nThe Community is welcome to join us at Nanuet Hebrew Center\,
  on Wednesday\, September 23rd at 2:30pm for Public Yizkor. 
DTSTART;TZID=America/New_York:20150923T143000
DTEND;TZID=America/New_York:20150923T153000
END:VEVENT
END:VCALENDAR
