BEGIN:VCALENDAR
PRODID:-//eluceo/ical//2.0/EN
VERSION:2.0
CALSCALE:GREGORIAN
BEGIN:VEVENT
UID:09be7a410c1204cd3661138294dd0df1
DTSTAMP:20260424T104331Z
SUMMARY:Purim at the Palace
DESCRIPTION:Jewish Federation & Foundation of Rockland County\nCommunity Ca
 lendar\nhttps://jewishrockland.org/calendar/purim-at-the-palace-1551902912
 \n\nJoin Chabad of Rockland for our Annual Themed Purim Party!
DTSTART;TZID=America/New_York:20190321T173000
DTEND;TZID=America/New_York:20190321T193000
END:VEVENT
END:VCALENDAR
