BEGIN:VCALENDAR
PRODID:-//eluceo/ical//2.0/EN
VERSION:2.0
CALSCALE:GREGORIAN
BEGIN:VEVENT
UID:fafe06e0ec5dd0668a8724b78c1fd6f4
DTSTAMP:20260424T100222Z
SUMMARY:Purim Carnival at CSI\, Nyack
DESCRIPTION:Jewish Federation & Foundation of Rockland County\nCommunity Ca
 lendar\nhttps://jewishrockland.org/calendar/purim-carnival-csi-nyack-2016\
 n\nSunday\, March 13\, 11am – 1 pm- Purim Carnival at CSI\nCongregation 
 Sons of Israel\n300 North Broadway\, Upper Nyack\, NY 10960\nBouncy house\
 , Carnival Games\, Prizes\, Face Painting\, snacks and much\, much more! C
 ome in costume and join us for a few hours of fun. Please join us for a fu
 n filled morning. Free Admission. Five tickets for $1. Congregation Sons o
 f Israel\, 300 N. Broadway\, Upper Nyack\, NY 10960. For more information 
 contact us at 845-358-3767 or csioffice@optonline.net
DTSTART;TZID=America/New_York:20160313T110000
DTEND;TZID=America/New_York:20160313T130000
END:VEVENT
END:VCALENDAR
