BEGIN:VCALENDAR
PRODID:-//eluceo/ical//2.0/EN
VERSION:2.0
CALSCALE:GREGORIAN
BEGIN:VEVENT
UID:c3a8d06e9500fe9d15b1927360b7302f
DTSTAMP:20260420T224736Z
SUMMARY:Purim Character Palooza
DESCRIPTION:Jewish Federation & Foundation of Rockland County\nCommunity Ca
 lendar\nhttps://jewishrockland.org/calendar/purim-character-palooza-64948\
 n\nCome dressed in costume as our cast of characters come to life to meet 
 you\, sign autographs and pose for photographs!
DTSTART;TZID=America/New_York:20150301T100000
DTEND;TZID=America/New_York:20150301T130000
END:VEVENT
END:VCALENDAR
