BEGIN:VCALENDAR
PRODID:-//eluceo/ical//2.0/EN
VERSION:2.0
CALSCALE:GREGORIAN
BEGIN:VEVENT
UID:b232da94b4d8ec1e82f6786ca855a13c
DTSTAMP:20260421T212833Z
SUMMARY:Purim Shpiel and Carnival
DESCRIPTION:Jewish Federation & Foundation of Rockland County\nCommunity Ca
 lendar\nhttps://jewishrockland.org/calendar/purim-shpiel-and-carnival\n\nB
 E OUR GUEST! Come to our Shpiel! Temple Beth Sholom's presentation of BEAU
 TY AND THE FEAST. This amazing musical production is sure to be a hit. Aft
 er the shpiel join our Men's Club and Youth Group in our social hall for o
 ur Purim Carnival. Fun for all ages! Food\, Games\, Prizes!
DTSTART;TZID=America/New_York:20180304T110000
DTEND;TZID=America/New_York:20180304T130000
END:VEVENT
END:VCALENDAR
