BEGIN:VCALENDAR
PRODID:-//eluceo/ical//2.0/EN
VERSION:2.0
CALSCALE:GREGORIAN
BEGIN:VEVENT
UID:c4ced707326581329d9a6bfdc51e37a4
DTSTAMP:20260421T075120Z
SUMMARY:Rabbi Kurland 's Study Group
DESCRIPTION:Jewish Federation & Foundation of Rockland County\nCommunity Ca
 lendar\nhttps://jewishrockland.org/calendar/rabbi-kurland-s-study-group-16
 37515418\n\nRabbi Paul Kurland's Study Group via zoom - Every week a diffe
 rent subject - All welcome to attend - no RSVP necessary\n\nMeeting ID: 85
 0 4576 3462 - Passcode: 9181
DTSTART;TZID=America/New_York:20211206T120000
DTEND;TZID=America/New_York:20211206T130000
END:VEVENT
END:VCALENDAR
