BEGIN:VCALENDAR
PRODID:-//eluceo/ical//2.0/EN
VERSION:2.0
CALSCALE:GREGORIAN
BEGIN:VEVENT
UID:b8e148dca5a7053200c3cfe74b4f2c8b
DTSTAMP:20260424T214413Z
SUMMARY:Rabbi Scheff's Text & Context
DESCRIPTION:Jewish Federation & Foundation of Rockland County\nCommunity Ca
 lendar\nhttps://jewishrockland.org/calendar/rabbi-scheffs-text--context-16
 42175756\n\nJoin Rabbi Scheff to discuss the parashat hashabua (weekly Tor
 ah portion).
DTSTART;TZID=America/New_York:20220120T103000
DTEND;TZID=America/New_York:20220120T103000
END:VEVENT
END:VCALENDAR
