BEGIN:VCALENDAR
PRODID:-//eluceo/ical//2.0/EN
VERSION:2.0
CALSCALE:GREGORIAN
BEGIN:VEVENT
UID:671585e263a1dee66b6cdd09a31500d1
DTSTAMP:20260421T015223Z
SUMMARY:Ramah-Style Shabbat Dinner and Services 
DESCRIPTION:Jewish Federation & Foundation of Rockland County\nCommunity Ca
 lendar\nhttps://jewishrockland.org/calendar/ramah-style-shabbat-dinner-and
 -services-1413836932\n\nFriday\, November 7\, 6 p.m. Ramah-Style Shabbat D
 inner and Services\nWear your Ramah t-shirts and bring your Ramah Ruach (s
 pirit) for a camp style praying experience and dinner afterwards. Everyone
  is welcome and encouraged to join us. Congregation Sons of Israel\, 300 N
 . Broadway\, Upper Nyack\, NY 10960. Cost $18 for adults\, $5 for children
  6-12 and Children 5 and under are free. For more information call Helaine
  at 845-358-3767 or csioffice@optonline.net Please RSVP by Nov. 3 to Helai
 ne or csi...
DTSTART;TZID=America/New_York:20141107T180000
DTEND;TZID=America/New_York:20141107T203000
END:VEVENT
END:VCALENDAR
