BEGIN:VCALENDAR
PRODID:-//eluceo/ical//2.0/EN
VERSION:2.0
CALSCALE:GREGORIAN
BEGIN:VEVENT
UID:a21fd1833b1dc25fb7d375e052fdae93
DTSTAMP:20260421T041828Z
SUMMARY:RCC - Jewish Heritage Month - Art & Soul Paint Party
DESCRIPTION:Jewish Federation & Foundation of Rockland County\nCommunity Ca
 lendar\nhttps://jewishrockland.org/calendar/rcc-jewish-heritage-month-art-
 soul-paint-party\n\nOpen to the public. Kosher refreshments served. For in
 formation contact Rabbi Dov Oliver at 845-574-4422
DTSTART;TZID=America/New_York:20160329T123000
DTEND;TZID=America/New_York:20160329T133000
END:VEVENT
END:VCALENDAR
