BEGIN:VCALENDAR
PRODID:-//eluceo/ical//2.0/EN
VERSION:2.0
CALSCALE:GREGORIAN
BEGIN:VEVENT
UID:854b96aa45a1474c24096d906df8b326
DTSTAMP:20260421T041657Z
SUMMARY:RCC - Jewish Heritage Month - The Jewish Perspective on Love & Sexu
 ality
DESCRIPTION:Jewish Federation & Foundation of Rockland County\nCommunity Ca
 lendar\nhttps://jewishrockland.org/calendar/rcc-jewish-heritage-month-jewi
 sh-perspective-on-love\n\nOpen to the public & free of charge. Kosher refr
 eshments served.  For info: Rabbi Dov Oliver - 845-574-4422
DTSTART;TZID=America/New_York:20160405T121500
DTEND;TZID=America/New_York:20160405T133000
END:VEVENT
END:VCALENDAR
