BEGIN:VCALENDAR
PRODID:-//eluceo/ical//2.0/EN
VERSION:2.0
CALSCALE:GREGORIAN
BEGIN:VEVENT
UID:45a886b48f3a4de24881320e166eaba2
DTSTAMP:20260425T000429Z
SUMMARY:Re-Generation: Community Gathering of 2 & 3 G's
DESCRIPTION:Jewish Federation & Foundation of Rockland County\nCommunity Ca
 lendar\nhttps://jewishrockland.org/calendar/re-generation-community-gather
 ing-of-2--3-gs-1438797480\n\nRe-Generation: Community Gathering of 2 & 3 G
 's is a program by JCC Rockland\n\nVisit jccrockland.org for more informat
 ion
DTSTART;TZID=America/New_York:20151015T190000
DTEND;TZID=America/New_York:20151015T210000
END:VEVENT
END:VCALENDAR
