BEGIN:VCALENDAR
PRODID:-//eluceo/ical//2.0/EN
VERSION:2.0
CALSCALE:GREGORIAN
BEGIN:VEVENT
UID:a5bcd22e49a45327358a6a57cb45a3d2
DTSTAMP:20260420T182839Z
SUMMARY:Recent Events in Israel Since Oct 7
DESCRIPTION:Jewish Federation & Foundation of Rockland County\nCommunity Ca
 lendar\nhttps://jewishrockland.org/calendar/recent-events-in-israel-since-
 oct-7-1730992325\n\nMoshe Gold\, a dynamic educator and tour guide will be
  speaking about Israeli society\, the challengers Israeli's face and Israe
 l's hopes for a brighter future.\nRSVP to office@shirshalomrockland.org or
  845-708-9181 - Admission - your desired donation.
DTSTART;TZID=America/New_York:20241119T190000
DTEND;TZID=America/New_York:20241119T210000
END:VEVENT
END:VCALENDAR
