BEGIN:VCALENDAR
PRODID:-//eluceo/ical//2.0/EN
VERSION:2.0
CALSCALE:GREGORIAN
BEGIN:VEVENT
UID:0223fba1121a1e7aa2ae15395a1b662a
DTSTAMP:20260419T162620Z
SUMMARY:Reelabilities Film Festival 2016 - Twice Exeptional
DESCRIPTION:Jewish Federation & Foundation of Rockland County\nCommunity Ca
 lendar\nhttps://jewishrockland.org/calendar/reelabilities-film-festival-20
 16-twice-exeptional-31416\n\nReelabilities Film Festival 2016. Visit www.j
 ccrockland.org for more information.
DTSTART;TZID=America/New_York:20160314T133000
DTEND;TZID=America/New_York:20160314T153000
END:VEVENT
END:VCALENDAR
