BEGIN:VCALENDAR
PRODID:-//eluceo/ical//2.0/EN
VERSION:2.0
CALSCALE:GREGORIAN
BEGIN:VEVENT
UID:d07a02c908ea0fec73bf3c955c611f33
DTSTAMP:20260420T194917Z
SUMMARY:RTR Erev Sukkot Service
DESCRIPTION:Jewish Federation & Foundation of Rockland County\nCommunity Ca
 lendar\nhttps://jewishrockland.org/calendar/reform-temple-rockland-erev-su
 kkot-service-2016\n\nJoin us!
DTSTART;TZID=America/New_York:20161016T183000
DTEND;TZID=America/New_York:20161016T210000
END:VEVENT
END:VCALENDAR
