BEGIN:VCALENDAR
PRODID:-//eluceo/ical//2.0/EN
VERSION:2.0
CALSCALE:GREGORIAN
BEGIN:VEVENT
UID:def4f5828c354e303a7a56f431ff7ee7
DTSTAMP:20260424T190810Z
SUMMARY:Refugee Shabbat at CSI
DESCRIPTION:Jewish Federation & Foundation of Rockland County\nCommunity Ca
 lendar\nhttps://jewishrockland.org/calendar/refugee-shabbat-at-csi-1736910
 604\n\nRefugee Shabbat at CSI \nServices 9:30-11:30   Feature speaker from
  Haiti\, Jackendy will share his personal experiences \nover a homemade lu
 nch featuring traditional Haitian flavors.\nRSVP to office@csinyack.org fo
 r security purposes\nFebruary 8
DTSTART;TZID=America/New_York:20250208T093000
DTEND;TZID=America/New_York:20250208T123000
END:VEVENT
END:VCALENDAR
