BEGIN:VCALENDAR
PRODID:-//eluceo/ical//2.0/EN
VERSION:2.0
CALSCALE:GREGORIAN
BEGIN:VEVENT
UID:f2da89123b3cb19f79be8c17dd053da7
DTSTAMP:20260421T103252Z
SUMMARY:Religious School OPEN HOUSE at The Reform Temple of Rockland
DESCRIPTION:Jewish Federation & Foundation of Rockland County\nCommunity Ca
 lendar\nhttps://jewishrockland.org/calendar/religious-school-open-house-at
 -the-reform-temple-of-rockland-1740427741\n\nCome to our Open House and se
 e what a day at RTR's Religious School is all about! All are welcome to se
 e our school\, and meet our teachers and clergy.
DTSTART;TZID=America/New_York:20250316T093000
DTEND;TZID=America/New_York:20250316T113000
END:VEVENT
END:VCALENDAR
