BEGIN:VCALENDAR
PRODID:-//eluceo/ical//2.0/EN
VERSION:2.0
CALSCALE:GREGORIAN
BEGIN:VEVENT
UID:b7db1c7dff597a146a1dfb4363883c3c
DTSTAMP:20260422T125624Z
SUMMARY:Rhoda Bloom Kosher Food Pantry Food Distribution Day
DESCRIPTION:Jewish Federation & Foundation of Rockland County\nCommunity Ca
 lendar\nhttps://jewishrockland.org/calendar/rhoda-bloom-kosher-food-pantry
 -food-distribution-day-1666886043\n\nVolunteers are asked to report at 8:3
 0am to pack the boxes and load into clients' cars\, clients pick up from 1
 0:30 to Noon. For more info see www.rjfs.org/food.
DTSTART;TZID=America/New_York:20230416T103000
DTEND;TZID=America/New_York:20230416T120000
END:VEVENT
END:VCALENDAR
