BEGIN:VCALENDAR
PRODID:-//eluceo/ical//2.0/EN
VERSION:2.0
CALSCALE:GREGORIAN
BEGIN:VEVENT
UID:5e90279a45fd9402cacefc863540913f
DTSTAMP:20260420T204737Z
SUMMARY:Rhoda Bloom Kosher Food Pantry Food Distribution Day
DESCRIPTION:Jewish Federation & Foundation of Rockland County\nCommunity Ca
 lendar\nhttps://jewishrockland.org/calendar/rhoda-bloom-kosher-food-pantry
 -food-distribution-day-1666886886\n\nVolunteers are asked to report at 8:3
 0am to pack the boxes and load into clients' cars\, clients pick up from 1
 0:30 to Noon. For more info see www.rjfs.org/food.
DTSTART;TZID=America/New_York:20230716T103000
DTEND;TZID=America/New_York:20230716T120000
END:VEVENT
END:VCALENDAR
