BEGIN:VCALENDAR
PRODID:-//eluceo/ical//2.0/EN
VERSION:2.0
CALSCALE:GREGORIAN
BEGIN:VEVENT
UID:3490ba780b017fc08aa2910a7007256b
DTSTAMP:20260425T165231Z
SUMMARY:RJA Chanukah Dinner
DESCRIPTION:Jewish Federation & Foundation of Rockland County\nCommunity Ca
 lendar\nhttps://jewishrockland.org/calendar/rja-chanukah-dinner-1459430119
 -186485\n\nRJA Chanukah Dinner. For more information please visit www.rock
 landjewishacademy.org\n\n 
DTSTART;TZID=America/New_York:20161222T173000
DTEND;TZID=America/New_York:20161222T193000
END:VEVENT
END:VCALENDAR
