BEGIN:VCALENDAR
PRODID:-//eluceo/ical//2.0/EN
VERSION:2.0
CALSCALE:GREGORIAN
BEGIN:VEVENT
UID:edfa446a4ba1f26c491f602f5c3e76e4
DTSTAMP:20260421T092054Z
SUMMARY:RJA Color Run
DESCRIPTION:Jewish Federation & Foundation of Rockland County\nCommunity Ca
 lendar\nhttps://jewishrockland.org/calendar/rja-color-run-09-16-186477\n\n
 RJA's Second Annual Color Run. Visit rocklandjewishacademy.org for more in
 formation
DTSTART;TZID=America/New_York:20160925T000000
DTEND;TZID=America/New_York:20160925T000000
END:VEVENT
END:VCALENDAR
