BEGIN:VCALENDAR
PRODID:-//eluceo/ical//2.0/EN
VERSION:2.0
CALSCALE:GREGORIAN
BEGIN:VEVENT
UID:a135981d5fcd90b0f610616e56bb565a
DTSTAMP:20260422T070218Z
SUMMARY:RJA End of School BBQ
DESCRIPTION:Jewish Federation & Foundation of Rockland County\nCommunity Ca
 lendar\nhttps://jewishrockland.org/calendar/rja-end-of-school-bbq-14594307
 87-186496\n\nRJA End of School BBQ
DTSTART;TZID=America/New_York:20170621T000000
DTEND;TZID=America/New_York:20170621T000000
END:VEVENT
END:VCALENDAR
