BEGIN:VCALENDAR
PRODID:-//eluceo/ical//2.0/EN
VERSION:2.0
CALSCALE:GREGORIAN
BEGIN:VEVENT
UID:42357877afb3fd3b9562f466c3b0c131
DTSTAMP:20260419T204038Z
SUMMARY:RJA K-5 Back to School Night
DESCRIPTION:Jewish Federation & Foundation of Rockland County\nCommunity Ca
 lendar\nhttps://jewishrockland.org/calendar/rja-k-5-back-to-school-night-1
 431007640-144764\n\nRockland Jewish Academy's K-5 Back to School Night
DTSTART;TZID=America/New_York:20150908T070000
DTEND;TZID=America/New_York:20150908T210000
END:VEVENT
END:VCALENDAR
