BEGIN:VCALENDAR
PRODID:-//eluceo/ical//2.0/EN
VERSION:2.0
CALSCALE:GREGORIAN
BEGIN:VEVENT
UID:92e524c295a4910cb1beb697dde0ca41
DTSTAMP:20260421T182611Z
SUMMARY:RJA K-5 Back to School Night
DESCRIPTION:Jewish Federation & Foundation of Rockland County\nCommunity Ca
 lendar\nhttps://jewishrockland.org/calendar/rja-k-5-back-to-school-night-2
 016-186478\n\nRJA K-5 Back to School Night. Visit www.rocklandjewishacadem
 y.org for more information.
DTSTART;TZID=America/New_York:20160913T190000
DTEND;TZID=America/New_York:20160913T190000
END:VEVENT
END:VCALENDAR
