BEGIN:VCALENDAR
PRODID:-//eluceo/ical//2.0/EN
VERSION:2.0
CALSCALE:GREGORIAN
BEGIN:VEVENT
UID:b5e5c86a5d3f90d57e8775a64b36e9ab
DTSTAMP:20260423T042317Z
SUMMARY:RJA Kindergarten Readiness - The Experts Speak
DESCRIPTION:Jewish Federation & Foundation of Rockland County\nCommunity Ca
 lendar\nhttps://jewishrockland.org/calendar/rja-kindergarten-readiness---t
 he-experts-speak\n\nKindergarten Readiness
DTSTART;TZID=America/New_York:20130123T190000
DTEND;TZID=America/New_York:20130123T203000
END:VEVENT
END:VCALENDAR
