BEGIN:VCALENDAR
PRODID:-//eluceo/ical//2.0/EN
VERSION:2.0
CALSCALE:GREGORIAN
BEGIN:VEVENT
UID:ae9123581347dd30e3e3041cc7a3a316
DTSTAMP:20260419T120153Z
SUMMARY:RJA Open House
DESCRIPTION:Jewish Federation & Foundation of Rockland County\nCommunity Ca
 lendar\nhttps://jewishrockland.org/calendar/rja-open-house\n\nRJA Open Hou
 se
DTSTART;TZID=America/New_York:20130424T190000
DTEND;TZID=America/New_York:20130424T203000
END:VEVENT
END:VCALENDAR
