BEGIN:VCALENDAR
PRODID:-//eluceo/ical//2.0/EN
VERSION:2.0
CALSCALE:GREGORIAN
BEGIN:VEVENT
UID:7798a9e0eff1955d2d5597486b5466d5
DTSTAMP:20260422T104247Z
SUMMARY:RJA Open House
DESCRIPTION:Jewish Federation & Foundation of Rockland County\nCommunity Ca
 lendar\nhttps://jewishrockland.org/calendar/rja-open-house-apr-24\n\nTour 
 the school\, meet the teachers! Learn more at http://www.rocklandjewishaca
 demy.net/rja-openhouse\n\n 
DTSTART;TZID=America/New_York:20170424T100000
DTEND;TZID=America/New_York:20170424T113000
END:VEVENT
END:VCALENDAR
