BEGIN:VCALENDAR
PRODID:-//eluceo/ical//2.0/EN
VERSION:2.0
CALSCALE:GREGORIAN
BEGIN:VEVENT
UID:68e19e83901b1462a5928a2985bd9282
DTSTAMP:20260424T091123Z
SUMMARY:RJA Parent Association Plant Sale
DESCRIPTION:Jewish Federation & Foundation of Rockland County\nCommunity Ca
 lendar\nhttps://jewishrockland.org/calendar/rja-parent-association-plant-s
 ale-1410379378\n\nRockland Jewish Academy's Parent Association Plant Sale
DTSTART;TZID=America/New_York:20150508T100000
DTEND;TZID=America/New_York:20150508T150000
END:VEVENT
END:VCALENDAR
